Package: tpSVG Version: 1.3.0 Command: /home/biocbuild/R/R/bin/R CMD build --keep-empty-dirs --no-resave-data tpSVG StartedAt: 2025-01-28 02:58:51 -0000 (Tue, 28 Jan 2025) EndedAt: 2025-01-28 03:00:49 -0000 (Tue, 28 Jan 2025) EllapsedTime: 118.1 seconds RetCode: 0 Status: OK PackageFile: tpSVG_1.3.0.tar.gz PackageFileSize: 1.259 MiB