Package: tpSVG Version: 1.3.0 Command: /Library/Frameworks/R.framework/Resources/bin/R CMD build --keep-empty-dirs --no-resave-data tpSVG StartedAt: 2025-02-09 18:44:56 -0500 (Sun, 09 Feb 2025) EndedAt: 2025-02-09 18:46:32 -0500 (Sun, 09 Feb 2025) EllapsedTime: 95.9 seconds RetCode: 0 Status: OK PackageFile: tpSVG_1.3.0.tar.gz PackageFileSize: 1.237 MiB