Package: tpSVG Version: 1.3.0 Command: E:\biocbuild\bbs-3.21-bioc\R\bin\R.exe CMD check --no-multiarch --install=check:tpSVG.install-out.txt --library=E:\biocbuild\bbs-3.21-bioc\R\library --no-vignettes --timings tpSVG_1.3.0.tar.gz StartedAt: 2025-02-10 06:16:23 -0500 (Mon, 10 Feb 2025) EndedAt: 2025-02-10 06:20:57 -0500 (Mon, 10 Feb 2025) EllapsedTime: 273.7 seconds RetCode: 0 Status: OK CheckDir: tpSVG.Rcheck Warnings: 0