Package: trackViewer Version: 1.43.6 Command: /Library/Frameworks/R.framework/Resources/bin/R CMD build --keep-empty-dirs --no-resave-data trackViewer StartedAt: 2025-02-09 17:49:51 -0500 (Sun, 09 Feb 2025) EndedAt: 2025-02-09 17:53:31 -0500 (Sun, 09 Feb 2025) EllapsedTime: 219.7 seconds RetCode: 0 Status: OK PackageFile: trackViewer_1.43.6.tar.gz PackageFileSize: 12.56 MiB