Package: trackViewer Version: 1.43.6 Command: /Library/Frameworks/R.framework/Resources/bin/R CMD check --install=check:trackViewer.install-out.txt --library=/Library/Frameworks/R.framework/Resources/library --no-vignettes --timings trackViewer_1.43.6.tar.gz StartedAt: 2025-02-09 21:47:20 -0500 (Sun, 09 Feb 2025) EndedAt: 2025-02-09 21:50:24 -0500 (Sun, 09 Feb 2025) EllapsedTime: 184.2 seconds RetCode: 0 Status: OK CheckDir: trackViewer.Rcheck Warnings: 0