Package: trackViewer Version: 1.43.6 Command: /Library/Frameworks/R.framework/Resources/bin/R CMD INSTALL trackViewer StartedAt: 2025-02-09 15:17:38 -0500 (Sun, 09 Feb 2025) EndedAt: 2025-02-09 15:18:02 -0500 (Sun, 09 Feb 2025) EllapsedTime: 23.7 seconds RetCode: 0 Status: OK