Package: trackViewer Version: 1.43.6 Command: /Library/Frameworks/R.framework/Resources/bin/R CMD build --keep-empty-dirs --no-resave-data trackViewer StartedAt: 2025-02-12 18:36:44 -0500 (Wed, 12 Feb 2025) EndedAt: 2025-02-12 18:47:31 -0500 (Wed, 12 Feb 2025) EllapsedTime: 647.5 seconds RetCode: 0 Status: OK PackageFile: trackViewer_1.43.6.tar.gz PackageFileSize: 12.55 MiB