Package: trackViewer Version: 1.43.6 Command: /home/biocbuild/bbs-3.21-bioc/R/bin/R CMD build --keep-empty-dirs --no-resave-data trackViewer StartedAt: 2025-02-09 19:38:11 -0500 (Sun, 09 Feb 2025) EndedAt: 2025-02-09 19:49:06 -0500 (Sun, 09 Feb 2025) EllapsedTime: 655.5 seconds RetCode: 0 Status: OK PackageFile: trackViewer_1.43.6.tar.gz PackageFileSize: 10.32 MiB