Package: tracktables Version: 1.41.0 Command: rm -rf tracktables.buildbin-libdir && mkdir tracktables.buildbin-libdir && /Users/biocbuild/BBS/utils/build-universal.sh tracktables_1.41.0.tar.gz /Library/Frameworks/R.framework/Resources/bin/R tracktables.buildbin-libdir StartedAt: 2025-02-04 22:35:34 -0500 (Tue, 04 Feb 2025) EndedAt: 2025-02-04 22:35:40 -0500 (Tue, 04 Feb 2025) EllapsedTime: 6.2 seconds RetCode: 0 Status: OK PackageFile: tracktables_1.41.0.tgz PackageFileSize: 404.3 KiB