Package: tracktables Version: 1.41.0 Command: /Library/Frameworks/R.framework/Resources/bin/R CMD INSTALL tracktables StartedAt: 2025-02-04 15:12:11 -0500 (Tue, 04 Feb 2025) EndedAt: 2025-02-04 15:12:16 -0500 (Tue, 04 Feb 2025) EllapsedTime: 5.3 seconds RetCode: 0 Status: OK