Package: tracktables Version: 1.41.0 Command: /home/biocbuild/R/R/bin/R CMD INSTALL tracktables StartedAt: 2025-01-29 19:58:13 -0000 (Wed, 29 Jan 2025) EndedAt: 2025-01-29 19:58:33 -0000 (Wed, 29 Jan 2025) EllapsedTime: 19.2 seconds RetCode: 0 Status: OK