Package: tracktables Version: 1.41.0 Command: /Library/Frameworks/R.framework/Resources/bin/R CMD build --keep-empty-dirs --no-resave-data tracktables StartedAt: 2025-02-04 18:36:21 -0500 (Tue, 04 Feb 2025) EndedAt: 2025-02-04 18:36:51 -0500 (Tue, 04 Feb 2025) EllapsedTime: 29.7 seconds RetCode: 0 Status: OK PackageFile: tracktables_1.41.0.tar.gz PackageFileSize: 356.4 KiB