Package: tracktables Version: 1.41.0 Command: /Library/Frameworks/R.framework/Resources/bin/R CMD check --install=check:tracktables.install-out.txt --library=/Library/Frameworks/R.framework/Resources/library --no-vignettes --timings tracktables_1.41.0.tar.gz StartedAt: 2025-02-04 23:50:37 -0500 (Tue, 04 Feb 2025) EndedAt: 2025-02-04 23:52:23 -0500 (Tue, 04 Feb 2025) EllapsedTime: 105.9 seconds RetCode: 0 Status: WARNINGS CheckDir: tracktables.Rcheck Warnings: 1