Package: tracktables Version: 1.41.0 Command: chmod a+r tracktables -R && E:\biocbuild\bbs-3.21-bioc\R\bin\R.exe CMD build --keep-empty-dirs --no-resave-data tracktables StartedAt: 2025-02-04 22:10:18 -0500 (Tue, 04 Feb 2025) EndedAt: 2025-02-04 22:11:01 -0500 (Tue, 04 Feb 2025) EllapsedTime: 43.1 seconds RetCode: 0 Status: OK PackageFile: tracktables_1.41.0.tar.gz PackageFileSize: 357.3 KiB