Package: tracktables Version: 1.41.0 Command: E:\biocbuild\bbs-3.21-bioc\R\bin\R.exe CMD check --no-multiarch --install=check:tracktables.install-out.txt --library=E:\biocbuild\bbs-3.21-bioc\R\library --no-vignettes --timings tracktables_1.41.0.tar.gz StartedAt: 2025-02-05 06:39:55 -0500 (Wed, 05 Feb 2025) EndedAt: 2025-02-05 06:41:53 -0500 (Wed, 05 Feb 2025) EllapsedTime: 118.1 seconds RetCode: 0 Status: WARNINGS CheckDir: tracktables.Rcheck Warnings: 1