Package: tracktables Version: 1.41.0 Command: E:\biocbuild\bbs-3.21-bioc\R\bin\R.exe CMD INSTALL tracktables StartedAt: 2025-02-04 16:18:44 -0500 (Tue, 04 Feb 2025) EndedAt: 2025-02-04 16:19:04 -0500 (Tue, 04 Feb 2025) EllapsedTime: 20.5 seconds RetCode: 0 Status: OK