Package: transcriptR Version: 1.35.0 Command: /Library/Frameworks/R.framework/Resources/bin/R CMD build --keep-empty-dirs --no-resave-data transcriptR StartedAt: 2025-02-09 18:45:31 -0500 (Sun, 09 Feb 2025) EndedAt: 2025-02-09 18:47:02 -0500 (Sun, 09 Feb 2025) EllapsedTime: 91.3 seconds RetCode: 0 Status: OK PackageFile: transcriptR_1.35.0.tar.gz PackageFileSize: 3.573 MiB