Package: transcriptR Version: 1.35.0 Command: /Library/Frameworks/R.framework/Resources/bin/R CMD INSTALL transcriptR StartedAt: 2025-02-09 15:37:18 -0500 (Sun, 09 Feb 2025) EndedAt: 2025-02-09 15:38:21 -0500 (Sun, 09 Feb 2025) EllapsedTime: 62.8 seconds RetCode: 0 Status: OK