Package: transcriptR Version: 1.35.0 Command: chmod a+r transcriptR -R && E:\biocbuild\bbs-3.21-bioc\R\bin\R.exe CMD build --keep-empty-dirs --no-resave-data transcriptR StartedAt: 2025-02-09 22:09:00 -0500 (Sun, 09 Feb 2025) EndedAt: 2025-02-09 22:11:02 -0500 (Sun, 09 Feb 2025) EllapsedTime: 121.8 seconds RetCode: 0 Status: OK PackageFile: transcriptR_1.35.0.tar.gz PackageFileSize: 3.35 MiB