Package: transcriptR Version: 1.35.0 Command: E:\biocbuild\bbs-3.21-bioc\R\bin\R.exe CMD check --no-multiarch --install=check:transcriptR.install-out.txt --library=E:\biocbuild\bbs-3.21-bioc\R\library --no-vignettes --timings transcriptR_1.35.0.tar.gz StartedAt: 2025-02-10 06:17:07 -0500 (Mon, 10 Feb 2025) EndedAt: 2025-02-10 06:25:03 -0500 (Mon, 10 Feb 2025) EllapsedTime: 476.4 seconds RetCode: 0 Status: OK CheckDir: transcriptR.Rcheck Warnings: 0