Package: transcriptogramer Version: 1.29.0 Command: rm -rf transcriptogramer.buildbin-libdir && mkdir transcriptogramer.buildbin-libdir && /Users/biocbuild/BBS/utils/build-universal.sh transcriptogramer_1.29.0.tar.gz /Library/Frameworks/R.framework/Resources/bin/R transcriptogramer.buildbin-libdir StartedAt: 2025-02-09 22:33:53 -0500 (Sun, 09 Feb 2025) EndedAt: 2025-02-09 22:34:04 -0500 (Sun, 09 Feb 2025) EllapsedTime: 11.3 seconds RetCode: 0 Status: OK PackageFile: transcriptogramer_1.29.0.tgz PackageFileSize: 5.454 MiB