Package: transcriptogramer Version: 1.29.0 Command: /Library/Frameworks/R.framework/Resources/bin/R CMD build --keep-empty-dirs --no-resave-data transcriptogramer StartedAt: 2025-02-09 17:49:59 -0500 (Sun, 09 Feb 2025) EndedAt: 2025-02-09 17:55:37 -0500 (Sun, 09 Feb 2025) EllapsedTime: 338.0 seconds RetCode: 0 Status: OK PackageFile: transcriptogramer_1.29.0.tar.gz PackageFileSize: 3.63 MiB