Package: transcriptogramer Version: 1.29.0 Command: /Library/Frameworks/R.framework/Resources/bin/R CMD INSTALL transcriptogramer StartedAt: 2025-02-03 15:49:20 -0500 (Mon, 03 Feb 2025) EndedAt: 2025-02-03 15:49:31 -0500 (Mon, 03 Feb 2025) EllapsedTime: 10.5 seconds RetCode: 0 Status: OK