Package: transcriptogramer Version: 1.29.0 Command: /Library/Frameworks/R.framework/Resources/bin/R CMD build --keep-empty-dirs --no-resave-data transcriptogramer StartedAt: 2025-02-05 18:36:50 -0500 (Wed, 05 Feb 2025) EndedAt: 2025-02-05 18:49:27 -0500 (Wed, 05 Feb 2025) EllapsedTime: 757.2 seconds RetCode: 0 Status: OK PackageFile: transcriptogramer_1.29.0.tar.gz PackageFileSize: 3.63 MiB