Package: transcriptogramer Version: 1.29.0 Command: /Library/Frameworks/R.framework/Resources/bin/R CMD check --install=check:transcriptogramer.install-out.txt --library=/Library/Frameworks/R.framework/Resources/library --no-vignettes --timings transcriptogramer_1.29.0.tar.gz StartedAt: 2025-02-10 00:11:12 -0500 (Mon, 10 Feb 2025) EndedAt: 2025-02-10 00:15:48 -0500 (Mon, 10 Feb 2025) EllapsedTime: 276.5 seconds RetCode: 0 Status: OK CheckDir: transcriptogramer.Rcheck Warnings: 0