Package: transcriptogramer Version: 1.29.0 Command: /Library/Frameworks/R.framework/Resources/bin/R CMD INSTALL transcriptogramer StartedAt: 2025-02-05 15:22:17 -0500 (Wed, 05 Feb 2025) EndedAt: 2025-02-05 15:22:51 -0500 (Wed, 05 Feb 2025) EllapsedTime: 34.4 seconds RetCode: 0 Status: OK