Package: transcriptogramer Version: 1.29.0 Command: /home/biocbuild/bbs-3.21-bioc/R/bin/R CMD build --keep-empty-dirs --no-resave-data transcriptogramer StartedAt: 2025-02-03 19:47:01 -0500 (Mon, 03 Feb 2025) EndedAt: 2025-02-03 19:58:37 -0500 (Mon, 03 Feb 2025) EllapsedTime: 696.3 seconds RetCode: 0 Status: OK PackageFile: transcriptogramer_1.29.0.tar.gz PackageFileSize: 3.63 MiB