Package: transcriptogramer Version: 1.29.0 Command: /home/biocbuild/bbs-3.21-bioc/R/bin/R CMD INSTALL transcriptogramer StartedAt: 2025-02-09 15:38:28 -0500 (Sun, 09 Feb 2025) EndedAt: 2025-02-09 15:38:54 -0500 (Sun, 09 Feb 2025) EllapsedTime: 25.7 seconds RetCode: 0 Status: OK