Package: transcriptogramer Version: 1.29.0 Command: rm -rf transcriptogramer.buildbin-libdir && mkdir transcriptogramer.buildbin-libdir && E:\biocbuild\bbs-3.21-bioc\R\bin\R.exe CMD INSTALL --build --library=transcriptogramer.buildbin-libdir transcriptogramer_1.29.0.tar.gz StartedAt: 2025-02-10 08:53:39 -0500 (Mon, 10 Feb 2025) EndedAt: 2025-02-10 08:55:30 -0500 (Mon, 10 Feb 2025) EllapsedTime: 111.5 seconds RetCode: 0 Status: OK PackageFile: transcriptogramer_1.29.0.zip PackageFileSize: 5.453 MiB