Package: transcriptogramer Version: 1.29.0 Command: E:\biocbuild\bbs-3.21-bioc\R\bin\R.exe CMD INSTALL transcriptogramer StartedAt: 2025-02-09 15:51:51 -0500 (Sun, 09 Feb 2025) EndedAt: 2025-02-09 15:53:43 -0500 (Sun, 09 Feb 2025) EllapsedTime: 111.5 seconds RetCode: 0 Status: OK