Package: transformGamPoi Version: 1.13.0 Command: /home/biocbuild/R/R/bin/R CMD build --keep-empty-dirs --no-resave-data transformGamPoi StartedAt: 2025-01-28 02:59:46 -0000 (Tue, 28 Jan 2025) EndedAt: 2025-01-28 03:00:53 -0000 (Tue, 28 Jan 2025) EllapsedTime: 67.0 seconds RetCode: 0 Status: OK PackageFile: transformGamPoi_1.13.0.tar.gz PackageFileSize: 541.7 KiB