Package: transformGamPoi Version: 1.13.0 Command: /Library/Frameworks/R.framework/Resources/bin/R CMD build --keep-empty-dirs --no-resave-data transformGamPoi StartedAt: 2025-02-12 18:37:09 -0500 (Wed, 12 Feb 2025) EndedAt: 2025-02-12 18:37:52 -0500 (Wed, 12 Feb 2025) EllapsedTime: 43.5 seconds RetCode: 0 Status: OK PackageFile: transformGamPoi_1.13.0.tar.gz PackageFileSize: 640.4 KiB