Package: transformGamPoi Version: 1.13.0 Command: rm -rf transformGamPoi.buildbin-libdir && mkdir transformGamPoi.buildbin-libdir && E:\biocbuild\bbs-3.21-bioc\R\bin\R.exe CMD INSTALL --build --library=transformGamPoi.buildbin-libdir transformGamPoi_1.13.0.tar.gz StartedAt: 2025-02-10 08:53:42 -0500 (Mon, 10 Feb 2025) EndedAt: 2025-02-10 08:54:06 -0500 (Mon, 10 Feb 2025) EllapsedTime: 24.1 seconds RetCode: 0 Status: OK PackageFile: transformGamPoi_1.13.0.zip PackageFileSize: 775.4 KiB