Package: transite Version: 1.25.0 Command: /Library/Frameworks/R.framework/Resources/bin/R CMD build --keep-empty-dirs --no-resave-data transite StartedAt: 2025-02-12 18:37:12 -0500 (Wed, 12 Feb 2025) EndedAt: 2025-02-12 18:37:49 -0500 (Wed, 12 Feb 2025) EllapsedTime: 36.6 seconds RetCode: 0 Status: OK PackageFile: transite_1.25.0.tar.gz PackageFileSize: 637.9 KiB