Package: transite Version: 1.25.0 Command: /home/biocbuild/bbs-3.21-bioc/R/bin/R CMD check --install=check:transite.install-out.txt --library=/home/biocbuild/bbs-3.21-bioc/R/site-library --timings transite_1.25.0.tar.gz StartedAt: 2025-02-13 03:28:26 -0500 (Thu, 13 Feb 2025) EndedAt: 2025-02-13 03:35:11 -0500 (Thu, 13 Feb 2025) EllapsedTime: 404.6 seconds RetCode: 0 Status: OK CheckDir: transite.Rcheck Warnings: 0