Package: transomics2cytoscape Version: 1.17.0 Command: rm -rf transomics2cytoscape.buildbin-libdir && mkdir transomics2cytoscape.buildbin-libdir && /Users/biocbuild/BBS/utils/build-universal.sh transomics2cytoscape_1.17.0.tar.gz /Library/Frameworks/R.framework/Resources/bin/R transomics2cytoscape.buildbin-libdir StartedAt: 2025-02-09 22:33:54 -0500 (Sun, 09 Feb 2025) EndedAt: 2025-02-09 22:33:57 -0500 (Sun, 09 Feb 2025) EllapsedTime: 3.0 seconds RetCode: 0 Status: OK PackageFile: transomics2cytoscape_1.17.0.tgz PackageFileSize: 11.85 MiB