Package: transomics2cytoscape Version: 1.17.0 Command: /home/biocbuild/R/R/bin/R CMD INSTALL transomics2cytoscape StartedAt: 2025-01-29 20:14:51 -0000 (Wed, 29 Jan 2025) EndedAt: 2025-01-29 20:14:56 -0000 (Wed, 29 Jan 2025) EllapsedTime: 4.9 seconds RetCode: 0 Status: OK