Package: transomics2cytoscape Version: 1.17.0 Command: rm -rf transomics2cytoscape.buildbin-libdir && mkdir transomics2cytoscape.buildbin-libdir && /Users/biocbuild/BBS/utils/build-universal.sh transomics2cytoscape_1.17.0.tar.gz /Library/Frameworks/R.framework/Resources/bin/R transomics2cytoscape.buildbin-libdir StartedAt: 2025-02-05 01:06:53 -0500 (Wed, 05 Feb 2025) EndedAt: 2025-02-05 01:07:02 -0500 (Wed, 05 Feb 2025) EllapsedTime: 8.2 seconds RetCode: 0 Status: OK PackageFile: transomics2cytoscape_1.17.0.tgz PackageFileSize: 11.85 MiB