Package: transomics2cytoscape Version: 1.17.0 Command: /Library/Frameworks/R.framework/Resources/bin/R CMD check --install=check:transomics2cytoscape.install-out.txt --library=/Library/Frameworks/R.framework/Resources/library --no-vignettes --timings transomics2cytoscape_1.17.0.tar.gz StartedAt: 2025-02-10 00:11:53 -0500 (Mon, 10 Feb 2025) EndedAt: 2025-02-10 00:12:32 -0500 (Mon, 10 Feb 2025) EllapsedTime: 39.0 seconds RetCode: 0 Status: OK CheckDir: transomics2cytoscape.Rcheck Warnings: 0