Package: traseR Version: 1.37.0 Maintainer: li chen MaintainerEmail: li.chen at emory.edu git_url: https://git.bioconductor.org/packages/traseR git_branch: devel git_last_commit: 93e91fe git_last_commit_date: 2024-10-29 10:02:34 -0500 (Tue, 29 Oct 2024)