Package: traseR Version: 1.37.0 Command: /Library/Frameworks/R.framework/Resources/bin/R CMD build --keep-empty-dirs --no-resave-data traseR StartedAt: 2025-02-09 17:50:22 -0500 (Sun, 09 Feb 2025) EndedAt: 2025-02-09 17:50:46 -0500 (Sun, 09 Feb 2025) EllapsedTime: 23.3 seconds RetCode: 0 Status: OK PackageFile: traseR_1.37.0.tar.gz PackageFileSize: 6.221 MiB