Package: traseR Version: 1.37.0 Command: /Library/Frameworks/R.framework/Resources/bin/R CMD INSTALL traseR StartedAt: 2025-02-09 15:23:13 -0500 (Sun, 09 Feb 2025) EndedAt: 2025-02-09 15:23:55 -0500 (Sun, 09 Feb 2025) EllapsedTime: 41.6 seconds RetCode: 0 Status: OK