Package: traseR Version: 1.37.0 Command: rm -rf traseR.buildbin-libdir && mkdir traseR.buildbin-libdir && E:\biocbuild\bbs-3.21-bioc\R\bin\R.exe CMD INSTALL --build --library=traseR.buildbin-libdir traseR_1.37.0.tar.gz StartedAt: 2025-02-10 08:53:59 -0500 (Mon, 10 Feb 2025) EndedAt: 2025-02-10 08:54:34 -0500 (Mon, 10 Feb 2025) EllapsedTime: 35.3 seconds RetCode: 0 Status: OK PackageFile: traseR_1.37.0.zip PackageFileSize: 6.294 MiB