Package: traseR Version: 1.37.0 Command: E:\biocbuild\bbs-3.21-bioc\R\bin\R.exe CMD check --no-multiarch --install=check:traseR.install-out.txt --library=E:\biocbuild\bbs-3.21-bioc\R\library --no-vignettes --timings traseR_1.37.0.tar.gz StartedAt: 2025-02-13 06:30:39 -0500 (Thu, 13 Feb 2025) EndedAt: 2025-02-13 06:35:41 -0500 (Thu, 13 Feb 2025) EllapsedTime: 302.0 seconds RetCode: 0 Status: OK CheckDir: traseR.Rcheck Warnings: 0