Package: treeio Version: 1.31.0 Command: rm -rf treeio.buildbin-libdir && mkdir treeio.buildbin-libdir && /Users/biocbuild/BBS/utils/build-universal.sh treeio_1.31.0.tar.gz /Library/Frameworks/R.framework/Resources/bin/R treeio.buildbin-libdir StartedAt: 2025-02-09 22:34:02 -0500 (Sun, 09 Feb 2025) EndedAt: 2025-02-09 22:34:06 -0500 (Sun, 09 Feb 2025) EllapsedTime: 4.1 seconds RetCode: 0 Status: OK PackageFile: treeio_1.31.0.tgz PackageFileSize: 913.6 KiB