Package: treeio Version: 1.31.0 Command: /Library/Frameworks/R.framework/Resources/bin/R CMD INSTALL treeio StartedAt: 2025-02-12 15:08:45 -0500 (Wed, 12 Feb 2025) EndedAt: 2025-02-12 15:08:48 -0500 (Wed, 12 Feb 2025) EllapsedTime: 2.6 seconds RetCode: 0 Status: OK