Package: treeio Version: 1.31.0 Command: /Library/Frameworks/R.framework/Resources/bin/R CMD build --keep-empty-dirs --no-resave-data treeio StartedAt: 2025-02-12 18:37:45 -0500 (Wed, 12 Feb 2025) EndedAt: 2025-02-12 18:37:57 -0500 (Wed, 12 Feb 2025) EllapsedTime: 11.5 seconds RetCode: 0 Status: OK PackageFile: treeio_1.31.0.tar.gz PackageFileSize: 678.9 KiB