Package: treeio Version: 1.31.0 Command: /Library/Frameworks/R.framework/Resources/bin/R CMD check --install=check:treeio.install-out.txt --library=/Library/Frameworks/R.framework/Resources/library --no-vignettes --timings treeio_1.31.0.tar.gz StartedAt: 2025-02-10 00:12:32 -0500 (Mon, 10 Feb 2025) EndedAt: 2025-02-10 00:13:42 -0500 (Mon, 10 Feb 2025) EllapsedTime: 70.0 seconds RetCode: 0 Status: OK CheckDir: treeio.Rcheck Warnings: 0