Package: tricycle Version: 1.15.0 Command: /Library/Frameworks/R.framework/Resources/bin/R CMD build --keep-empty-dirs --no-resave-data tricycle StartedAt: 2025-02-12 17:51:26 -0500 (Wed, 12 Feb 2025) EndedAt: 2025-02-12 17:51:52 -0500 (Wed, 12 Feb 2025) EllapsedTime: 26.3 seconds RetCode: 0 Status: OK PackageFile: tricycle_1.15.0.tar.gz PackageFileSize: 4.1 MiB