Package: tricycle Version: 1.15.0 Command: rm -rf tricycle.buildbin-libdir && mkdir tricycle.buildbin-libdir && E:\biocbuild\bbs-3.21-bioc\R\bin\R.exe CMD INSTALL --build --library=tricycle.buildbin-libdir tricycle_1.15.0.tar.gz StartedAt: 2025-02-10 08:54:39 -0500 (Mon, 10 Feb 2025) EndedAt: 2025-02-10 08:55:17 -0500 (Mon, 10 Feb 2025) EllapsedTime: 38.3 seconds RetCode: 0 Status: OK PackageFile: tricycle_1.15.0.zip PackageFileSize: 3.712 MiB